BEGIN:VCALENDAR
VERSION:2.0
PRODID:-//DWNSFT Society - ECPv6.15.20//NONSGML v1.0//EN
CALSCALE:GREGORIAN
METHOD:PUBLISH
X-WR-CALNAME:DWNSFT Society
X-ORIGINAL-URL:https://www.dwnsft.co.uk
X-WR-CALDESC:Events for DWNSFT Society
REFRESH-INTERVAL;VALUE=DURATION:PT1H
X-Robots-Tag:noindex
X-PUBLISHED-TTL:PT1H
BEGIN:VTIMEZONE
TZID:Europe/London
BEGIN:DAYLIGHT
TZOFFSETFROM:+0000
TZOFFSETTO:+0100
TZNAME:BST
DTSTART:20250330T010000
END:DAYLIGHT
BEGIN:STANDARD
TZOFFSETFROM:+0100
TZOFFSETTO:+0000
TZNAME:GMT
DTSTART:20251026T010000
END:STANDARD
BEGIN:DAYLIGHT
TZOFFSETFROM:+0000
TZOFFSETTO:+0100
TZNAME:BST
DTSTART:20260329T010000
END:DAYLIGHT
BEGIN:STANDARD
TZOFFSETFROM:+0100
TZOFFSETTO:+0000
TZNAME:GMT
DTSTART:20261025T010000
END:STANDARD
BEGIN:DAYLIGHT
TZOFFSETFROM:+0000
TZOFFSETTO:+0100
TZNAME:BST
DTSTART:20270328T010000
END:DAYLIGHT
BEGIN:STANDARD
TZOFFSETFROM:+0100
TZOFFSETTO:+0000
TZNAME:GMT
DTSTART:20271031T010000
END:STANDARD
END:VTIMEZONE
BEGIN:VEVENT
DTSTART;TZID=Europe/London:20260322T110000
DTEND;TZID=Europe/London:20260322T140000
DTSTAMP:20260422T115352
CREATED:20260117T230325Z
LAST-MODIFIED:20260117T230325Z
UID:439-1774177200-1774188000@www.dwnsft.co.uk
SUMMARY:MLVW Cars & Coffee
DESCRIPTION:
URL:https://www.dwnsft.co.uk/event/mlvw-cars-coffee/
LOCATION:Lough Ennell\, Lough Ennell\, Tudenham Shore\, Carrickwood\, MULLINGAR\, Westmeath\, N91 P798
CATEGORIES:All Events,Ireland
END:VEVENT
BEGIN:VEVENT
DTSTART;TZID=Europe/London:20260103T100000
DTEND;TZID=Europe/London:20260103T130000
DTSTAMP:20260422T115352
CREATED:20251228T175854Z
LAST-MODIFIED:20251228T222342Z
UID:69-1767434400-1767445200@www.dwnsft.co.uk
SUMMARY:Motorfix Cars & Coffee
DESCRIPTION:
URL:https://www.dwnsft.co.uk/event/motorfix-cars-coffee/
LOCATION:Motorfix\, Motorfix\, Unit A\, 9th Lock Road\, Clondalkin\, Dublin\, D22 E519
CATEGORIES:All Events,Ireland
END:VEVENT
END:VCALENDAR